BEGIN:VCALENDAR
VERSION:2.0
PRODID:-//ChamberMaster//Event Calendar 2.0//EN
METHOD:PUBLISH
X-PUBLISHED-TTL:P1H
REFRESH-INTERVAL:P1H
CALSCALE:GREGORIAN
BEGIN:VTIMEZONE
TZID:America/New_York
BEGIN:DAYLIGHT
RRULE:FREQ=YEARLY;BYMONTH=3;BYDAY=2SU
DTSTART:20070101T000000
TZOFFSETFROM:-0500
TZOFFSETTO:-0400
TZNAME:Eastern Daylight Time
END:DAYLIGHT
BEGIN:STANDARD
RRULE:FREQ=YEARLY;BYMONTH=11;BYDAY=1SU
DTSTART:20070101T000000
TZOFFSETFROM:-0400
TZOFFSETTO:-0500
TZNAME:Eastern Standard Time
END:STANDARD
END:VTIMEZONE
BEGIN:VEVENT
DTSTART;VALUE=DATE:20260629
DTEND;VALUE=DATE:20260907
TRANSP:TRANSPARENT
X-MICROSOFT-CDO-ALLDAYEVENT:TRUE
SUMMARY:General Construction Classes
DESCRIPTION:AGC Member Pricing: $600 (per course) | Non-Member Pricing: $600 (per course)\n\nCONSTRUCTION STUDENTSAttending an online class is the best and most convenient way to help you achieve your career goals. Advancing your education will put you on the fast track to career advancement and job satisfaction. You will find our online classes to be an effective and convenient way to learn the skills you need.\nClasses are 10 weeks each with online access 24/7. Budget 5 hours per week to complete course work. A certificate of completion will be issued upon course completion.Please contact admin@agcfla.com if you would like more information on any course.\n100 SERIES: ESTIMATING\, BLUEPRINTS\, PROCESSES\, EQUIPMENT\, AND CIVIL SITEWORK COURSESESTIMATING & BLUEPRINT READING 099 Introduction to ConcreteA self-paced seminar is one of the building construction classes offered four times a year. The Introduction to Concrete course consists of six modules. This course provides an introduction to both Portland Cement Concrete (PCC) and Asphaltic Concrete.100 Introduction to ConstructionA self-paced four module Introduction to Construction course is an introduction to the construction industry\, its parties\, and processes. 101 Introduction to Construction EstimatingA self-paced class that is designed to be the gateway to more complex and trade-specific estimating courses. 102 Essential Construction Math A self-paced class is one of several construction basics online courses\, which is intended to develop mathematical skills that can be applied to the construction trade through practice and application.103 Construction Blueprint ReadingRead architectural\, structural\, civil\, mechanical and electrical blueprints. Practice looking up information and solving common construction problems by reading the blueprints.105 Estimating and Bidding 1The first of two hands-on detailed estimating courses in which students learn how to estimate general conditions\, site work\, excavation\, concrete and masonry. Be sure to look over the prerequisites for this class here.106 Estimating and Bidding 2The second course features hands-on estimating and quantity take off activities associated with Metals\, Wood\, Doors and Windows\, Finishes\, Electrical\, and Mechanical Estimating. You may take Estimating and Bidding 1 and 2 in any order.MATERIALS & EQUIPMENT107 Construction Materials and ProcessesDevelop foundational knowledge of construction materials and processes that utilize concrete\, brick and CMU\, metals\, wood products\, roofing\, and more. Understand and report back on how materials and processes function in green construction. An overall construction system will be covered each week. Expand your studies to include materials and processes which are normally encountered by the student in his/her work place.108 Construction Equipment and MethodsThe course will introduce students to civil construction plans\, determining earthwork quantities\, equipment economics and utilization\, equipment production rates\, fundamentals of earthmoving and excavating\, loading and hauling equipment.110 Civil Blueprint Reading and MaterialsThis course is designed to give the student an overall understanding of civil sitework construction and materials. This includes understanding and interpreting civil construction blueprints\, reading specifications\, manufacture and use of civil construction materials such as aggregates\, concrete\, asphalt\, pipe\, and geo-synthetics.114 Estimating Civil and Sitework ConstructionThis construction estimator training course introduces students to civil engineering estimating\, estimating heavy civil construction projects\, and site work construction projects. This online class will cover reading and understanding civil construction plans\, determining earthwork quantities\, determining crew make-up\, and fundamentals of estimating various civil and site work components.300 SERIES: PROJECT MANAGEMENT\, BUILDING GREEN BUILDINGS\, AND CONSTRUCTION LAW305 Building Green Buildings: The Contractor's Perspective Our construction project management courses online and green construction classes offer up to date tools\, resources\, discussions and active problem solving as we review green building materials\, practices\, systems and more.
X-ALT-DESC;FMTTYPE=text/html:<!DOCTYPE html><html><head><title></title></head><body aria-disabled="false"><p style="line-height: normal\;"><span style="font-size: 24px\;"><strong fr-original-style="" style="font-weight: 700\;">AGC Member Pricing: $600 (per course) | Non-Member Pricing: $600 (per course)<br></strong></span></p><p style="line-height: normal\;"><br></p><p style="line-height: normal\;"><strong fr-original-style="" style="font-weight: 700\;"><span style="font-size: 24px\; color: rgb(0\, 0\, 0)\; font-family: Arial\, Helvetica\, sans-serif\;">CONSTRUCTION STUDENTS</span></strong></p><p style="line-height: normal\;"><span style="font-family: Arial\,Helvetica\,sans-serif\;"><span style="color: rgb(0\, 0\, 0)\;"><span style="font-size: 18px\;">Attending an online class is the best and most convenient way to help you achieve your career goals. Advancing your education will put you on the fast track to career advancement and job satisfaction. You will find our online classes to be an effective and convenient way to learn the skills you need.</span><br></span></span></p><p style="line-height: normal\;"><span style="font-family: Arial\,Helvetica\,sans-serif\;"><span style="color: rgb(0\, 0\, 0)\;"><span style="font-size: 18px\;">Classes are 10 weeks each with online access 24/7. Budget 5 hours per week to complete course work. A certificate of completion will be issued upon course completion.</span></span></span></p><p style="line-height: normal\;"><span style="font-family: Arial\,Helvetica\,sans-serif\;"><span style="color: rgb(0\, 0\, 0)\;"><span style="font-size: 18px\;"><strong fr-original-style="" style="font-weight: 700\;">Please contact&nbsp\;</strong><a fr-original-style="" href="mailto:admin@agcfla.com" style="user-select: auto\; color: inherit\;"><strong fr-original-style="" style="font-weight: 700\;">admin@agcfla.com</strong></a><strong fr-original-style="" style="font-weight: 700\;">&nbsp\;if you would like more information on any course.</strong></span></span></span></p><p style="line-height: normal\;"><br></p><p style="line-height: normal\;"><span style="font-family: Arial\,Helvetica\,sans-serif\;"><span style="color: rgb(0\, 0\, 0)\;"><span style="font-size: 18px\;"><strong fr-original-style="" style="font-weight: 700\;">100 SERIES: ESTIMATING\, BLUEPRINTS\, PROCESSES\, EQUIPMENT\, AND CIVIL SITEWORK COURSES</strong></span></span></span></p><p style="line-height: normal\;"><span style="font-family: Arial\,Helvetica\,sans-serif\;"><span style="color: rgb(0\, 0\, 0)\;"><span style="font-size: 18px\;"><strong fr-original-style="" style="font-weight: 700\;">ESTIMATING &amp\; BLUEPRINT READING&nbsp\;</strong></span></span></span></p><p style="line-height: normal\;"><span style="font-family: Arial\,Helvetica\,sans-serif\;"><span style="color: rgb(0\, 0\, 0)\;"><strong fr-original-style="" style="font-weight: 700\;"><span style="font-size: 18px\;">099 Introduction to Concrete</span></strong></span></span></p><p style="line-height: normal\;"><span style="font-family: Arial\,Helvetica\,sans-serif\;"><span style="color: rgb(0\, 0\, 0)\;"><span style="font-size: 18px\;">A self-paced seminar is one of the building construction classes offered four times a year. The Introduction to Concrete course consists of six modules. This course provides an introduction to both Portland Cement Concrete (PCC) and Asphaltic Concrete.</span></span></span></p><p><span style="font-family: Arial\,Helvetica\,sans-serif\;"><span style="color: rgb(0\, 0\, 0)\;"><span style="font-size: 18px\;"><strong fr-original-style="" style="font-weight: 700\;">100 Introduction to Construction</strong></span></span></span></p><p><span style="font-family: Arial\,Helvetica\,sans-serif\;"><span style="color: rgb(0\, 0\, 0)\;"><span style="font-size: 18px\;">A self-paced four module Introduction to Construction course is an introduction to the construction industry\, its parties\, and processes.&nbsp\;</span></span></span></p><p><span style="font-family: Arial\,Helvetica\,sans-serif\;"><span style="color: rgb(0\, 0\, 0)\;"><span style="font-size: 18px\;"><strong fr-original-style="" style="font-weight: 700\;">101 Introduction to Construction Estimating</strong></span></span></span></p><p><span style="font-family: Arial\,Helvetica\,sans-serif\;"><span style="color: rgb(0\, 0\, 0)\;"><span style="font-size: 18px\;">A self-paced class that is designed to be the gateway to more complex and trade-specific estimating courses.&nbsp\;</span></span></span></p><p><span style="font-family: Arial\,Helvetica\,sans-serif\;"><span style="color: rgb(0\, 0\, 0)\;"><span style="font-size: 18px\;"><strong fr-original-style="" style="font-weight: 700\;">102 Essential Construction Math&nbsp\;</strong></span></span></span></p><p><span style="font-family: Arial\,Helvetica\,sans-serif\;"><span style="color: rgb(0\, 0\, 0)\;"><span style="font-size: 18px\;">A self-paced class is one of several construction basics online courses\, which is intended to develop mathematical skills that can be applied to the construction trade through practice and application.</span></span></span></p><p style="line-height: normal\;"><span style="font-family: Arial\,Helvetica\,sans-serif\;"><span style="color: rgb(0\, 0\, 0)\;"><span style="font-size: 18px\;"><strong fr-original-style="" style="font-weight: 700\;">103 Construction Blueprint Reading</strong></span></span></span></p><p style="line-height: normal\;"><span style="font-family: Arial\,Helvetica\,sans-serif\;"><span style="color: rgb(0\, 0\, 0)\;"><span style="font-size: 18px\;">Read architectural\, structural\, civil\, mechanical and electrical blueprints. Practice looking up information and solving common construction problems by reading the blueprints.</span></span></span></p><p style="line-height: normal\;"><span style="font-family: Arial\,Helvetica\,sans-serif\;"><span style="color: rgb(0\, 0\, 0)\;"><span style="font-size: 18px\;"><strong fr-original-style="" style="font-weight: 700\;">105 Estimating and Bidding 1</strong></span></span></span></p><p style="line-height: normal\;"><span style="font-family: Arial\,Helvetica\,sans-serif\;"><span style="color: rgb(0\, 0\, 0)\;"><span style="font-size: 18px\;">The first of two hands-on detailed estimating courses in which students learn how to estimate general conditions\, site work\, excavation\, concrete and masonry. Be sure to look over the prerequisites for this class here.</span></span></span></p><p style="line-height: normal\;"><span style="font-family: Arial\,Helvetica\,sans-serif\;"><span style="color: rgb(0\, 0\, 0)\;"><span style="font-size: 18px\;"><strong fr-original-style="" style="font-weight: 700\;">106 Estimating and Bidding 2</strong></span></span></span></p><p style="line-height: normal\;"><span style="font-family: Arial\,Helvetica\,sans-serif\;"><span style="color: rgb(0\, 0\, 0)\;"><span style="font-size: 18px\;">The second course features hands-on estimating and quantity take off activities associated with Metals\, Wood\, Doors and Windows\, Finishes\, Electrical\, and Mechanical Estimating. You may take Estimating and Bidding 1 and 2 in any order.</span></span></span></p><p style="line-height: normal\;"><span style="font-family: Arial\,Helvetica\,sans-serif\;"><span style="color: rgb(0\, 0\, 0)\;"><span style="font-size: 18px\;"><strong fr-original-style="" style="font-weight: 700\;">MATERIALS &amp\; EQUIPMENT</strong></span></span></span></p><p style="line-height: normal\;"><span style="font-family: Arial\,Helvetica\,sans-serif\;"><span style="color: rgb(0\, 0\, 0)\;"><span style="font-size: 18px\;"><strong fr-original-style="" style="font-weight: 700\;">107 Construction Materials and Processes</strong></span></span></span></p><p style="line-height: normal\;"><span style="font-family: Arial\,Helvetica\,sans-serif\;"><span style="color: rgb(0\, 0\, 0)\;"><span style="font-size: 18px\;">Develop foundational knowledge of construction materials and processes that utilize concrete\, brick and CMU\, metals\, wood products\, roofing\, and more. Understand and report back on how materials and processes function in green construction. An overall construction system will be covered each week. Expand your studies to include materials and processes which are normally encountered by the student in his/her work place.</span></span></span></p><p style="line-height: normal\;"><span style="font-family: Arial\,Helvetica\,sans-serif\;"><span style="color: rgb(0\, 0\, 0)\;"><span style="font-size: 18px\;"><strong fr-original-style="" style="font-weight: 700\;">108 Construction Equipment and Methods</strong></span></span></span></p><p style="line-height: normal\;"><span style="font-family: Arial\,Helvetica\,sans-serif\;"><span style="color: rgb(0\, 0\, 0)\;"><span style="font-size: 18px\;">The course will introduce students to civil construction plans\, determining earthwork quantities\, equipment economics and utilization\, equipment production rates\, fundamentals of earthmoving and excavating\, loading and hauling equipment.</span></span></span></p><p style="line-height: normal\;"><span style="font-family: Arial\,Helvetica\,sans-serif\;"><span style="color: rgb(0\, 0\, 0)\;"><span style="font-size: 18px\;"><strong fr-original-style="" style="font-weight: 700\;">110 Civil Blueprint Reading and Materials</strong></span></span></span></p><p style="line-height: normal\;"><span style="font-size: 18px\;">This course is designed to give the student an overall understanding of civil sitework construction and materials. This includes understanding and interpreting civil construction blueprints\, reading specifications\, manufacture and use of civil construction materials such as aggregates\, concrete\, asphalt\, pipe\, and geo-synthetics.</span></p><p style="line-height: normal\;"><span style="font-family: Arial\,Helvetica\,sans-serif\;"><span style="color: rgb(0\, 0\, 0)\;"><span style="font-size: 18px\;"><strong fr-original-style="" style="font-weight: 700\;">114 Estimating Civil and Sitework Construction</strong></span></span></span></p><p style="line-height: normal\;"><span style="font-size: 18px\;">This construction estimator training course introduces students to civil engineering estimating\, estimating heavy civil construction projects\, and site work construction projects. This online class will cover reading and understanding civil construction plans\, determining earthwork quantities\, determining crew make-up\, and fundamentals of estimating various civil and site work components.</span></p><p style="line-height: normal\;"><span style="font-family: Arial\,Helvetica\,sans-serif\;"><span style="color: rgb(0\, 0\, 0)\;"><span style="font-size: 18px\;"><strong fr-original-style="" style="font-weight: 700\;">300 SERIES: PROJECT MANAGEMENT\, BUILDING GREEN BUILDINGS\, AND CONSTRUCTION LAW</strong></span></span></span></p><p><strong fr-original-style="" style="font-weight: 700\;"><span style="font-size: 18px\; color: rgb(0\, 0\, 0)\; font-family: Arial\, Helvetica\, sans-serif\;">305 Building Green Buildings: The Contractor&#39\;s Perspective&nbsp\;</span></strong></p><p><span style="font-size: 18px\;">Our construction project management courses online and green construction classes offer up to date tools\, resources\, discussions and active problem solving as we review green building materials\, practices\, systems and more.</span></p></body></html>
LOCATION:
UID:e.2444.1446972
SEQUENCE:3
DTSTAMP:20260421T135429Z
URL:https://members.agcfla.com/board-meetings/Details/general-construction-classes-1713781?sourceTypeId=Hub
END:VEVENT
END:VCALENDAR
